BEGIN:VCALENDAR
VERSION:2.0
PRODID:-//Springside West Secondary College - ECPv6.13.2.1//NONSGML v1.0//EN
CALSCALE:GREGORIAN
METHOD:PUBLISH
X-WR-CALNAME:Springside West Secondary College
X-ORIGINAL-URL:https://www.swsc.vic.edu.au
X-WR-CALDESC:Events for Springside West Secondary College
REFRESH-INTERVAL;VALUE=DURATION:PT1H
X-Robots-Tag:noindex
X-PUBLISHED-TTL:PT1H
BEGIN:VTIMEZONE
TZID:Australia/Melbourne
BEGIN:STANDARD
TZOFFSETFROM:+1100
TZOFFSETTO:+1000
TZNAME:AEST
DTSTART:20250405T160000
END:STANDARD
BEGIN:DAYLIGHT
TZOFFSETFROM:+1000
TZOFFSETTO:+1100
TZNAME:AEDT
DTSTART:20251004T160000
END:DAYLIGHT
END:VTIMEZONE
BEGIN:VEVENT
DTSTART;VALUE=DATE:20251103
DTEND;VALUE=DATE:20251104
DTSTAMP:20260423T152450
CREATED:20250917T222540Z
LAST-MODIFIED:20250917T222540Z
UID:10000469-1762128000-1762214399@www.swsc.vic.edu.au
SUMMARY:Student Free Day
DESCRIPTION:
URL:https://www.swsc.vic.edu.au/event/student-free-day-4/
END:VEVENT
BEGIN:VEVENT
DTSTART;VALUE=DATE:20251104
DTEND;VALUE=DATE:20251105
DTSTAMP:20260423T152450
CREATED:20250917T222659Z
LAST-MODIFIED:20250917T222659Z
UID:10000470-1762214400-1762300799@www.swsc.vic.edu.au
SUMMARY:Melbourne Cup Day
DESCRIPTION:
URL:https://www.swsc.vic.edu.au/event/melbourne-cup-day-2/
END:VEVENT
BEGIN:VEVENT
DTSTART;VALUE=DATE:20251113
DTEND;VALUE=DATE:20251114
DTSTAMP:20260423T152450
CREATED:20250917T222731Z
LAST-MODIFIED:20250917T224058Z
UID:10000471-1762992000-1763078399@www.swsc.vic.edu.au
SUMMARY:Year 10/11 Exams Commence
DESCRIPTION:
URL:https://www.swsc.vic.edu.au/event/year-10-11-exam-commence/
END:VEVENT
BEGIN:VEVENT
DTSTART;VALUE=DATE:20251121
DTEND;VALUE=DATE:20251122
DTSTAMP:20260423T152450
CREATED:20250917T224127Z
LAST-MODIFIED:20250917T224159Z
UID:10000472-1763683200-1763769599@www.swsc.vic.edu.au
SUMMARY:End of Year 10/11 Exams
DESCRIPTION:
URL:https://www.swsc.vic.edu.au/event/end-of-unit-4-exams/
END:VEVENT
BEGIN:VEVENT
DTSTART;VALUE=DATE:20251124
DTEND;VALUE=DATE:20251125
DTSTAMP:20260423T152450
CREATED:20250917T224243Z
LAST-MODIFIED:20250917T224335Z
UID:10000473-1763942400-1764028799@www.swsc.vic.edu.au
SUMMARY:Year 10 & 11 Step-Up Commences
DESCRIPTION:
URL:https://www.swsc.vic.edu.au/event/year-10-11-step-up-commences/
END:VEVENT
BEGIN:VEVENT
DTSTART;VALUE=DATE:20251128
DTEND;VALUE=DATE:20251129
DTSTAMP:20260423T152450
CREATED:20250917T224417Z
LAST-MODIFIED:20250917T224417Z
UID:10000474-1764288000-1764374399@www.swsc.vic.edu.au
SUMMARY:Last Day Learning Tasks Year 7-9
DESCRIPTION:
URL:https://www.swsc.vic.edu.au/event/last-day-learning-tasks-year-7-9/
END:VEVENT
END:VCALENDAR