BEGIN:VCALENDAR
VERSION:2.0
PRODID:-//Springside West Secondary College - ECPv6.13.2.1//NONSGML v1.0//EN
CALSCALE:GREGORIAN
METHOD:PUBLISH
X-ORIGINAL-URL:https://www.swsc.vic.edu.au
X-WR-CALDESC:Events for Springside West Secondary College
REFRESH-INTERVAL;VALUE=DURATION:PT1H
X-Robots-Tag:noindex
X-PUBLISHED-TTL:PT1H
BEGIN:VTIMEZONE
TZID:Australia/Melbourne
BEGIN:STANDARD
TZOFFSETFROM:+1100
TZOFFSETTO:+1000
TZNAME:AEST
DTSTART:20260404T160000
END:STANDARD
BEGIN:DAYLIGHT
TZOFFSETFROM:+1000
TZOFFSETTO:+1100
TZNAME:AEDT
DTSTART:20261003T160000
END:DAYLIGHT
END:VTIMEZONE
BEGIN:VEVENT
DTSTART;VALUE=DATE:20260323
DTEND;VALUE=DATE:20260324
DTSTAMP:20260426T104630
CREATED:20260224T034044Z
LAST-MODIFIED:20260224T034044Z
UID:10000501-1774224000-1774310399@www.swsc.vic.edu.au
SUMMARY:Career Expo
DESCRIPTION:
URL:https://www.swsc.vic.edu.au/event/career-expo/
END:VEVENT
BEGIN:VEVENT
DTSTART;VALUE=DATE:20260330
DTEND;VALUE=DATE:20260331
DTSTAMP:20260426T104630
CREATED:20260224T034111Z
LAST-MODIFIED:20260224T034111Z
UID:10000502-1774828800-1774915199@www.swsc.vic.edu.au
SUMMARY:Year Level Assemblies
DESCRIPTION:
URL:https://www.swsc.vic.edu.au/event/year-level-assemblies/
END:VEVENT
BEGIN:VEVENT
DTSTART;VALUE=DATE:20260331
DTEND;VALUE=DATE:20260401
DTSTAMP:20260426T104630
CREATED:20260224T034132Z
LAST-MODIFIED:20260224T034132Z
UID:10000503-1774915200-1775001599@www.swsc.vic.edu.au
SUMMARY:Athletics Carnival
DESCRIPTION:
URL:https://www.swsc.vic.edu.au/event/athletics-carnival-2/
END:VEVENT
BEGIN:VEVENT
DTSTART;VALUE=DATE:20260402
DTEND;VALUE=DATE:20260403
DTSTAMP:20260426T104630
CREATED:20260224T034154Z
LAST-MODIFIED:20260224T034154Z
UID:10000504-1775088000-1775174399@www.swsc.vic.edu.au
SUMMARY:Last day of Term 1
DESCRIPTION:
URL:https://www.swsc.vic.edu.au/event/last-day-of-term-1/
END:VEVENT
END:VCALENDAR