BEGIN:VCALENDAR
VERSION:2.0
PRODID:-//Springside West Secondary College - ECPv6.13.2.1//NONSGML v1.0//EN
CALSCALE:GREGORIAN
METHOD:PUBLISH
X-ORIGINAL-URL:https://www.swsc.vic.edu.au
X-WR-CALDESC:Events for Springside West Secondary College
REFRESH-INTERVAL;VALUE=DURATION:PT1H
X-Robots-Tag:noindex
X-PUBLISHED-TTL:PT1H
BEGIN:VTIMEZONE
TZID:Australia/Melbourne
BEGIN:STANDARD
TZOFFSETFROM:+1100
TZOFFSETTO:+1000
TZNAME:AEST
DTSTART:20260404T160000
END:STANDARD
BEGIN:DAYLIGHT
TZOFFSETFROM:+1000
TZOFFSETTO:+1100
TZNAME:AEDT
DTSTART:20261003T160000
END:DAYLIGHT
END:VTIMEZONE
BEGIN:VEVENT
DTSTART;VALUE=DATE:20260317
DTEND;VALUE=DATE:20260318
DTSTAMP:20260421T221318
CREATED:20260224T033934Z
LAST-MODIFIED:20260224T033934Z
UID:10000499-1773705600-1773791999@www.swsc.vic.edu.au
SUMMARY:NAPLAN Catch-up [Year 9]
DESCRIPTION:
URL:https://www.swsc.vic.edu.au/event/naplan-catch-up-year-9/
END:VEVENT
END:VCALENDAR