BEGIN:VCALENDAR
VERSION:2.0
PRODID:-//Springside West Secondary College - ECPv6.13.2.1//NONSGML v1.0//EN
CALSCALE:GREGORIAN
METHOD:PUBLISH
X-WR-CALNAME:Springside West Secondary College
X-ORIGINAL-URL:https://www.swsc.vic.edu.au
X-WR-CALDESC:Events for Springside West Secondary College
REFRESH-INTERVAL;VALUE=DURATION:PT1H
X-Robots-Tag:noindex
X-PUBLISHED-TTL:PT1H
BEGIN:VTIMEZONE
TZID:Australia/Melbourne
BEGIN:STANDARD
TZOFFSETFROM:+1100
TZOFFSETTO:+1000
TZNAME:AEST
DTSTART:20260404T160000
END:STANDARD
BEGIN:DAYLIGHT
TZOFFSETFROM:+1000
TZOFFSETTO:+1100
TZNAME:AEDT
DTSTART:20261003T160000
END:DAYLIGHT
END:VTIMEZONE
BEGIN:VEVENT
DTSTART;VALUE=DATE:20260311
DTEND;VALUE=DATE:20260312
DTSTAMP:20260423T151957
CREATED:20260224T033651Z
LAST-MODIFIED:20260224T033651Z
UID:10000495-1773187200-1773273599@www.swsc.vic.edu.au
SUMMARY:NAPLAN Writing [Year 7 & 9]
DESCRIPTION:
URL:https://www.swsc.vic.edu.au/event/naplan-writing-year-7-9/
END:VEVENT
END:VCALENDAR