BEGIN:VCALENDAR
VERSION:2.0
PRODID:-//Springside West Secondary College - ECPv6.13.2.1//NONSGML v1.0//EN
CALSCALE:GREGORIAN
METHOD:PUBLISH
X-WR-CALNAME:Springside West Secondary College
X-ORIGINAL-URL:https://www.swsc.vic.edu.au
X-WR-CALDESC:Events for Springside West Secondary College
REFRESH-INTERVAL;VALUE=DURATION:PT1H
X-Robots-Tag:noindex
X-PUBLISHED-TTL:PT1H
BEGIN:VTIMEZONE
TZID:Australia/Melbourne
BEGIN:STANDARD
TZOFFSETFROM:+1100
TZOFFSETTO:+1000
TZNAME:AEST
DTSTART:20250405T160000
END:STANDARD
BEGIN:DAYLIGHT
TZOFFSETFROM:+1000
TZOFFSETTO:+1100
TZNAME:AEDT
DTSTART:20251004T160000
END:DAYLIGHT
END:VTIMEZONE
BEGIN:VEVENT
DTSTART;TZID=Australia/Melbourne:20251215T090000
DTEND;TZID=Australia/Melbourne:20251218T150000
DTSTAMP:20260426T121418
CREATED:20250917T225243Z
LAST-MODIFIED:20250917T225243Z
UID:10000480-1765789200-1766070000@www.swsc.vic.edu.au
SUMMARY:Year 7-9 Activities Week
DESCRIPTION:
URL:https://www.swsc.vic.edu.au/event/year-7-9-activities-week/
END:VEVENT
END:VCALENDAR