BEGIN:VCALENDAR
VERSION:2.0
PRODID:-//Springside West Secondary College - ECPv6.13.2.1//NONSGML v1.0//EN
CALSCALE:GREGORIAN
METHOD:PUBLISH
X-WR-CALNAME:Springside West Secondary College
X-ORIGINAL-URL:https://www.swsc.vic.edu.au
X-WR-CALDESC:Events for Springside West Secondary College
REFRESH-INTERVAL;VALUE=DURATION:PT1H
X-Robots-Tag:noindex
X-PUBLISHED-TTL:PT1H
BEGIN:VTIMEZONE
TZID:Australia/Melbourne
BEGIN:STANDARD
TZOFFSETFROM:+1100
TZOFFSETTO:+1000
TZNAME:AEST
DTSTART:20250405T160000
END:STANDARD
BEGIN:DAYLIGHT
TZOFFSETFROM:+1000
TZOFFSETTO:+1100
TZNAME:AEDT
DTSTART:20251004T160000
END:DAYLIGHT
END:VTIMEZONE
BEGIN:VEVENT
DTSTART;VALUE=DATE:20251031
DTEND;VALUE=DATE:20251101
DTSTAMP:20260423T152518
CREATED:20250917T222505Z
LAST-MODIFIED:20250917T222621Z
UID:10000468-1761868800-1761955199@www.swsc.vic.edu.au
SUMMARY:Last Day Learning Tasks Years 10 & 11
DESCRIPTION:
URL:https://www.swsc.vic.edu.au/event/last-day-learning-tasks-years-10-11/
END:VEVENT
END:VCALENDAR